BEGIN:VCALENDAR
VERSION:2.0
PRODID:-//ChamberMaster//Event Calendar 2.0//EN
METHOD:PUBLISH
X-PUBLISHED-TTL:P3D
REFRESH-INTERVAL:P3D
CALSCALE:GREGORIAN
BEGIN:VEVENT
DTSTART:20220407T123000Z
DTEND:20220407T133000Z
X-MICROSOFT-CDO-ALLDAYEVENT:FALSE
SUMMARY:Veteran Owned Business Networking Breakfast
DESCRIPTION:Networking event for Veteran Owned Business owners
X-ALT-DESC;FMTTYPE=text/html:Networking event for Veteran Owned Business owners&nbsp\;&nbsp\;&nbsp\;&nbsp\;&nbsp\;&nbsp\;&nbsp\;&nbsp\;
LOCATION:His Dwelling Place\, 8 Randolph Street\, Thomasville
UID:e.1325.2589
SEQUENCE:3
DTSTAMP:20260423T130533Z
URL:http://thomasvillechamber.chambermaster.com/events/details/veteran-owned-business-networking-breakfast-2589
END:VEVENT

END:VCALENDAR
