BEGIN:VCALENDAR
VERSION:2.0
PRODID:-//ChamberMaster//Event Calendar 2.0//EN
METHOD:PUBLISH
X-PUBLISHED-TTL:P3D
REFRESH-INTERVAL:P3D
CALSCALE:GREGORIAN
BEGIN:VEVENT
DTSTART:20220409T130000Z
DTEND:20220409T150000Z
X-MICROSOFT-CDO-ALLDAYEVENT:FALSE
SUMMARY:Social Media 101
DESCRIPTION:
X-ALT-DESC;FMTTYPE=text/html:
LOCATION:webinar
UID:e.1325.2590
SEQUENCE:3
DTSTAMP:20260424T140928Z
URL:http://thomasvillechamber.chambermaster.com/events/details/social-media-101-2590
END:VEVENT

END:VCALENDAR
