BEGIN:VCALENDAR
VERSION:2.0
PRODID:-//ChamberMaster//Event Calendar 2.0//EN
METHOD:PUBLISH
X-PUBLISHED-TTL:P3D
REFRESH-INTERVAL:P3D
CALSCALE:GREGORIAN
BEGIN:VEVENT
DTSTART:20220526T123000Z
DTEND:20220526T133000Z
X-MICROSOFT-CDO-ALLDAYEVENT:FALSE
SUMMARY:Coffee Connections
DESCRIPTION:Coffee Connections is held on the last Thursday of every month.  It is a networking event that not only serves coffee and a full breakfast\, but is an opportunity to meet other business professionals and community leaders\, build new partnerships\, make new friends\, and exchange ideas.
X-ALT-DESC;FMTTYPE=text/html:Coffee Connections is held on the last Thursday of every month.&nbsp\; It is a networking event that not only serves coffee and a full breakfast\, but is an opportunity to meet other business professionals and community leaders\, build new partnerships\, make new friends\, and exchange ideas.
LOCATION:The Finch House 17 E Main Street\, Thomasville
UID:e.1325.2595
SEQUENCE:3
DTSTAMP:20260421T184215Z
URL:http://thomasvillechamber.chambermaster.com/events/details/coffee-connections-2595
END:VEVENT

END:VCALENDAR
